BEGIN:VCALENDAR
VERSION:2.0
PRODID:-//Washington County Republican Party - ECPv6.15.20//NONSGML v1.0//EN
CALSCALE:GREGORIAN
METHOD:PUBLISH
X-ORIGINAL-URL:https://wcrppa.com
X-WR-CALDESC:Events for Washington County Republican Party
REFRESH-INTERVAL;VALUE=DURATION:PT1H
X-Robots-Tag:noindex
X-PUBLISHED-TTL:PT1H
BEGIN:VTIMEZONE
TZID:America/New_York
BEGIN:DAYLIGHT
TZOFFSETFROM:-0500
TZOFFSETTO:-0400
TZNAME:EDT
DTSTART:20240310T070000
END:DAYLIGHT
BEGIN:STANDARD
TZOFFSETFROM:-0400
TZOFFSETTO:-0500
TZNAME:EST
DTSTART:20241103T060000
END:STANDARD
BEGIN:DAYLIGHT
TZOFFSETFROM:-0500
TZOFFSETTO:-0400
TZNAME:EDT
DTSTART:20250309T070000
END:DAYLIGHT
BEGIN:STANDARD
TZOFFSETFROM:-0400
TZOFFSETTO:-0500
TZNAME:EST
DTSTART:20251102T060000
END:STANDARD
BEGIN:DAYLIGHT
TZOFFSETFROM:-0500
TZOFFSETTO:-0400
TZNAME:EDT
DTSTART:20260308T070000
END:DAYLIGHT
BEGIN:STANDARD
TZOFFSETFROM:-0400
TZOFFSETTO:-0500
TZNAME:EST
DTSTART:20261101T060000
END:STANDARD
END:VTIMEZONE
BEGIN:VEVENT
DTSTART;TZID=America/New_York:20250704T100000
DTEND;TZID=America/New_York:20250704T100000
DTSTAMP:20260419T215242
CREATED:20250620T140447Z
LAST-MODIFIED:20250620T140600Z
UID:10000085-1751623200-1751623200@wcrppa.com
SUMMARY:Canonsburg 4th of July Parade
DESCRIPTION:Join us for the Canonsburg 4th of July Parade!  Parade will start at 332 W. Pike St Canonsburg PA 15317 at 10 AM.  Volunteers should be at our location by 8 AM. \nWe hope to see you there!
URL:https://wcrppa.com/event/canonsburg-4th-of-july-parade/
LOCATION:332 W. Pike St Canonsburg PA 15317\, 332 W. Pike St\, Canonsburg\, PA\, 15317\, United States
CATEGORIES:Holiday,Parade
ATTACH;FMTTYPE=image/jpeg:https://wcrppa.com/wp-content/uploads/2025/02/cropped-cropped-washco_logo.jpg
ORGANIZER;CN="Washington County Republican Party":MAILTO:rsvp.wcrp@gmail.com
END:VEVENT
END:VCALENDAR