BEGIN:VCALENDAR
VERSION:2.0
PRODID:-//Washington County Republican Party - ECPv6.15.20//NONSGML v1.0//EN
CALSCALE:GREGORIAN
METHOD:PUBLISH
X-WR-CALNAME:Washington County Republican Party
X-ORIGINAL-URL:https://wcrppa.com
X-WR-CALDESC:Events for Washington County Republican Party
REFRESH-INTERVAL;VALUE=DURATION:PT1H
X-Robots-Tag:noindex
X-PUBLISHED-TTL:PT1H
BEGIN:VTIMEZONE
TZID:America/New_York
BEGIN:DAYLIGHT
TZOFFSETFROM:-0500
TZOFFSETTO:-0400
TZNAME:EDT
DTSTART:20240310T070000
END:DAYLIGHT
BEGIN:STANDARD
TZOFFSETFROM:-0400
TZOFFSETTO:-0500
TZNAME:EST
DTSTART:20241103T060000
END:STANDARD
BEGIN:DAYLIGHT
TZOFFSETFROM:-0500
TZOFFSETTO:-0400
TZNAME:EDT
DTSTART:20250309T070000
END:DAYLIGHT
BEGIN:STANDARD
TZOFFSETFROM:-0400
TZOFFSETTO:-0500
TZNAME:EST
DTSTART:20251102T060000
END:STANDARD
BEGIN:DAYLIGHT
TZOFFSETFROM:-0500
TZOFFSETTO:-0400
TZNAME:EDT
DTSTART:20260308T070000
END:DAYLIGHT
BEGIN:STANDARD
TZOFFSETFROM:-0400
TZOFFSETTO:-0500
TZNAME:EST
DTSTART:20261101T060000
END:STANDARD
END:VTIMEZONE
BEGIN:VEVENT
DTSTART;TZID=America/New_York:20250120T180000
DTEND;TZID=America/New_York:20250120T200000
DTSTAMP:20260423T034136
CREATED:20250220T060151Z
LAST-MODIFIED:20250225T150133Z
UID:10000002-1737396000-1737403200@wcrppa.com
SUMMARY:Inaugural Ball
DESCRIPTION:Celebrate President Trump’s upcoming inauguration with the Washington County Republican Party
URL:https://wcrppa.com/event/inaugural-ball/
LOCATION:Doubletree\, 340 Racetrack Road\, Washington\, PA\, 15301\, United States
CATEGORIES:ball
ATTACH;FMTTYPE=image/png:https://wcrppa.com/wp-content/uploads/2025/02/innaugural-ball.png
ORGANIZER;CN="Washington County Republican Party":MAILTO:rsvp.wcrp@gmail.com
END:VEVENT
END:VCALENDAR