BEGIN:VCALENDAR
VERSION:2.0
PRODID:-//Washington County Republican Party - ECPv6.15.20//NONSGML v1.0//EN
CALSCALE:GREGORIAN
METHOD:PUBLISH
X-ORIGINAL-URL:https://wcrppa.com
X-WR-CALDESC:Events for Washington County Republican Party
REFRESH-INTERVAL;VALUE=DURATION:PT1H
X-Robots-Tag:noindex
X-PUBLISHED-TTL:PT1H
BEGIN:VTIMEZONE
TZID:America/New_York
BEGIN:DAYLIGHT
TZOFFSETFROM:-0500
TZOFFSETTO:-0400
TZNAME:EDT
DTSTART:20240310T070000
END:DAYLIGHT
BEGIN:STANDARD
TZOFFSETFROM:-0400
TZOFFSETTO:-0500
TZNAME:EST
DTSTART:20241103T060000
END:STANDARD
BEGIN:DAYLIGHT
TZOFFSETFROM:-0500
TZOFFSETTO:-0400
TZNAME:EDT
DTSTART:20250309T070000
END:DAYLIGHT
BEGIN:STANDARD
TZOFFSETFROM:-0400
TZOFFSETTO:-0500
TZNAME:EST
DTSTART:20251102T060000
END:STANDARD
BEGIN:DAYLIGHT
TZOFFSETFROM:-0500
TZOFFSETTO:-0400
TZNAME:EDT
DTSTART:20260308T070000
END:DAYLIGHT
BEGIN:STANDARD
TZOFFSETFROM:-0400
TZOFFSETTO:-0500
TZNAME:EST
DTSTART:20261101T060000
END:STANDARD
END:VTIMEZONE
BEGIN:VEVENT
DTSTART;TZID=America/New_York:20250605T080000
DTEND;TZID=America/New_York:20250605T090000
DTSTAMP:20260422T105349
CREATED:20250529T161239Z
LAST-MODIFIED:20250916T131103Z
UID:10000023-1749110400-1749114000@wcrppa.com
SUMMARY:The Conservative Cup. Monthly gathering with the Vice Chair
DESCRIPTION:Enjoy some Coffee\, Conversation\, Camaraderie\, and Conservatism. \n1st Thursday of each month at Chicco Baccello in Washington. (239 S Main St\, Washington\, PA 15301)
URL:https://wcrppa.com/event/the-conservative-cup-monthly-gathering-with-the-chair/2025-06-05/
LOCATION:Chicco Baccello\, 239 S Main St\, Washington\, PA\, 15301\, United States
CATEGORIES:The Conservative Cup
ATTACH;FMTTYPE=image/png:https://wcrppa.com/wp-content/uploads/2025/05/The-conservative-cup-2.png
ORGANIZER;CN="Washington County Republican Party":MAILTO:rsvp.wcrp@gmail.com
END:VEVENT
BEGIN:VEVENT
DTSTART;TZID=America/New_York:20250610T173000
DTEND;TZID=America/New_York:20250610T213000
DTSTAMP:20260422T105349
CREATED:20250529T162355Z
LAST-MODIFIED:20250529T162355Z
UID:10000083-1749576600-1749591000@wcrppa.com
SUMMARY:Dinner and a Movie
DESCRIPTION:5:30 Dinner\n 7pm movie \nMeet for Dinner at the Panera in Bridgeville (1025 Washington Pike\, Bridgeville\, PA 15017) and then see the American Miracle at the theater in Bridgeville (1025 Washington Pike\, Bridgeville\, PA 15017) at 7pm. \n  \nBuy movie tickets here: https://americanmiraclemovie.com/ \nDinner is on your own.
URL:https://wcrppa.com/event/dinner-and-a-movie/
LOCATION:Chartiers Valley Shopping Center\, 1025 Washington Pike\, Bridgeville\, PA\, 15017\, United States
CATEGORIES:Dinner,Movie
ATTACH;FMTTYPE=image/png:https://wcrppa.com/wp-content/uploads/2025/05/american-miracle.png
ORGANIZER;CN="Washington County Republican Party":MAILTO:rsvp.wcrp@gmail.com
END:VEVENT
END:VCALENDAR