BEGIN:VCALENDAR
VERSION:2.0
PRODID:-//Washington County Republican Party - ECPv6.15.20//NONSGML v1.0//EN
CALSCALE:GREGORIAN
METHOD:PUBLISH
X-WR-CALNAME:Washington County Republican Party
X-ORIGINAL-URL:https://wcrppa.com
X-WR-CALDESC:Events for Washington County Republican Party
REFRESH-INTERVAL;VALUE=DURATION:PT1H
X-Robots-Tag:noindex
X-PUBLISHED-TTL:PT1H
BEGIN:VTIMEZONE
TZID:America/New_York
BEGIN:DAYLIGHT
TZOFFSETFROM:-0500
TZOFFSETTO:-0400
TZNAME:EDT
DTSTART:20240310T070000
END:DAYLIGHT
BEGIN:STANDARD
TZOFFSETFROM:-0400
TZOFFSETTO:-0500
TZNAME:EST
DTSTART:20241103T060000
END:STANDARD
BEGIN:DAYLIGHT
TZOFFSETFROM:-0500
TZOFFSETTO:-0400
TZNAME:EDT
DTSTART:20250309T070000
END:DAYLIGHT
BEGIN:STANDARD
TZOFFSETFROM:-0400
TZOFFSETTO:-0500
TZNAME:EST
DTSTART:20251102T060000
END:STANDARD
BEGIN:DAYLIGHT
TZOFFSETFROM:-0500
TZOFFSETTO:-0400
TZNAME:EDT
DTSTART:20260308T070000
END:DAYLIGHT
BEGIN:STANDARD
TZOFFSETFROM:-0400
TZOFFSETTO:-0500
TZNAME:EST
DTSTART:20261101T060000
END:STANDARD
END:VTIMEZONE
BEGIN:VEVENT
DTSTART;TZID=America/New_York:20250415T190000
DTEND;TZID=America/New_York:20250415T210000
DTSTAMP:20260423T130039
CREATED:20250323T121726Z
LAST-MODIFIED:20250323T121901Z
UID:10000019-1744743600-1744750800@wcrppa.com
SUMMARY:CANDIDATE FORUM PRESENTED BY WCRP
DESCRIPTION:Understand the stances\, principles\, and qualifications of candidates running for office on the Republican ticket in 2025 \nFeaturing\nTony Andronas for Sheriff\nCarrie Perrell for Recorder of Deeds\nAnd Controller Candidates:\nBrenda Davis\, Tony DeLost\, Pat Phillips\, & Heather Sheatler \n  \nALL REGISTERED REPUBLICANS IN WASHINGTON COUNTY ARE WELCOME! \nSPONSORED BY THE WASHINGTON COUNTY REPUBLICAN PARTY \nFOR MORE INFO\nEMAIL RSVP.WCRP@GMAIL.COM OR CALL 724-350-3595
URL:https://wcrppa.com/event/candidate-forum-presented-by-wcrp/
LOCATION:American Legion Post 175\, 168 Park Ave\, Washington\, 15301\, United States
CATEGORIES:candidate forum
ATTACH;FMTTYPE=image/png:https://wcrppa.com/wp-content/uploads/2025/03/candidate-forum-april.png
ORGANIZER;CN="Washington County Republican Party":MAILTO:rsvp.wcrp@gmail.com
END:VEVENT
END:VCALENDAR