BEGIN:VCALENDAR
VERSION:2.0
PRODID:-//Washington County Republican Party - ECPv6.15.20//NONSGML v1.0//EN
CALSCALE:GREGORIAN
METHOD:PUBLISH
X-ORIGINAL-URL:https://wcrppa.com
X-WR-CALDESC:Events for Washington County Republican Party
REFRESH-INTERVAL;VALUE=DURATION:PT1H
X-Robots-Tag:noindex
X-PUBLISHED-TTL:PT1H
BEGIN:VTIMEZONE
TZID:America/New_York
BEGIN:DAYLIGHT
TZOFFSETFROM:-0500
TZOFFSETTO:-0400
TZNAME:EDT
DTSTART:20240310T070000
END:DAYLIGHT
BEGIN:STANDARD
TZOFFSETFROM:-0400
TZOFFSETTO:-0500
TZNAME:EST
DTSTART:20241103T060000
END:STANDARD
BEGIN:DAYLIGHT
TZOFFSETFROM:-0500
TZOFFSETTO:-0400
TZNAME:EDT
DTSTART:20250309T070000
END:DAYLIGHT
BEGIN:STANDARD
TZOFFSETFROM:-0400
TZOFFSETTO:-0500
TZNAME:EST
DTSTART:20251102T060000
END:STANDARD
BEGIN:DAYLIGHT
TZOFFSETFROM:-0500
TZOFFSETTO:-0400
TZNAME:EDT
DTSTART:20260308T070000
END:DAYLIGHT
BEGIN:STANDARD
TZOFFSETFROM:-0400
TZOFFSETTO:-0500
TZNAME:EST
DTSTART:20261101T060000
END:STANDARD
END:VTIMEZONE
BEGIN:VEVENT
DTSTART;TZID=America/New_York:20251019T180000
DTEND;TZID=America/New_York:20251019T210000
DTSTAMP:20260422T194344
CREATED:20250810T131557Z
LAST-MODIFIED:20251003T185419Z
UID:10000086-1760896800-1760907600@wcrppa.com
SUMMARY:Fall Lincoln Dinner
DESCRIPTION:Join us for our Lincoln Dinner Fall Fundraiser with keynote speaker Brandon Straka of #WalkAway!\nThe annual Lincoln Dinner is the premier event for Washington County Conservatives. Doors open at 5:30 PM with a special VIP reception at 6:00 PM. Dinner will be served at 7:00 PM. \nView Guests | Advertising Options | Ticket Packages | Paying by Check \n\n \nSpecial Guests\n\n\n\n\n\nJeff Landry – Governor of Louisiana\nPresident Trump’s energy plans to promote oil and gas production can reset the world stage\, and Louisiana Gov. Jeff Landry isn’t just talking the talk. He’s walking the walk and leading the way on unleashing energy dominance in his home state. Hear how he’s positioned Louisiana as an economic powerhouse to lead the industrial South. \n\n\n\n\n\nStacy Garrity – Pennsylvania Treasurer & Gubernatorial Candidate\nThirty years in the Army Reserve. Bronze Stars. Legion of Merit. Decades of business leadership. As Treasurer\, she’s safeguarded billions and returned record unclaimed property to Pennsylvanians. Now Stacy’s running for Governor to make Pennsylvania the Keystone State to grow a business and raise a family. \n\n\n\n\n\nBrandon Straka – Founder of #Walkaway\nOnce a former liberal\, Brandon has encouraged hundreds of thousands of lifelong liberals and Democrats to “Walk Away” from their party and explore conservative politics.  His work has been monumental in bringing awareness of the deception\, gaslighting\, and manipulation of mainstream media to wage a war against the American people. \n\n\n\n\n\n \nProgram Booklet\nAdvertising Pricing\n\n\n\n \nTickets\n\n\n\n\n\nPresenting Sponsor:\n$5\,000 – Only 4 available!\n8 tickets with VIP privileges\, including 2 complimentary drinks with each ticket\, front row seating\, wine with dinner\, front page program recognition\, and a full page ad in the program. \nPlatinum Sponsor:\n$3\,000 – Only 6 available!\n8 tickets with VIP privileges\, including 1 complimentary drink with each ticket\, center seating\, wine with dinner\, inside cover program recognition\, and a half-page ad in the program. \nGold Sponsor:\n$2\,000 – Only 6 available!\n8 tickets (4 with VIP privileges\, including 1 complimentary drink with each VIP)\, premium seating\, back cover program recognition\, and a half-page ad in the program. \nSilver Sponsor:\n$1\,000 – 10 available!\n8 tickets (2 with VIP privileges)\, centerfold program recognition\, and a quarter-page ad in the program. \nIndividual with VIP Privilege: $200\nIndividual: $100\n\n\n\n\n\n\n \nPayments\nPayments are requested by Tuesday\, September 30th.\nNo payments taken at the door.\nYou may drop off checks with the Washington City Post Office.\nPlease make checks payable to:\nWashington County Republican Party \nPlease call 724.350.3595 to make arrangements for your check pickup.\nPlease do not send in the mail at this time
URL:https://wcrppa.com/event/lincoln-dinner/
LOCATION:Doubletree\, 340 Racetrack Road\, Washington\, PA\, 15301\, United States
CATEGORIES:Dinner,Fundraiser
ATTACH;FMTTYPE=image/png:https://wcrppa.com/wp-content/uploads/2025/08/Basic-Flyer.png
ORGANIZER;CN="Washington County Republican Party":MAILTO:rsvp.wcrp@gmail.com
END:VEVENT
END:VCALENDAR